BEGIN:VCALENDAR
VERSION:2.0
PRODID:http://www.infomax-online.de/imxeventmanager/
METHOD:PUBLISH
BEGIN:VTIMEZONE
TZID:Europe/Berlin
TZURL:http://tzurl.org/zoneinfo-outlook/Europe/Berlin
X-LIC-LOCATION:Europe/Berlin
END:VTIMEZONE
BEGIN:VEVENT
UID:69ea944b11feb
LOCATION:Jakobikirchhof 22, 20095 Hamburg
SUMMARY;ENCODING=QUOTED-PRINTABLE:Gottesdienst an Trinitatis
DESCRIPTION;ENCODING=QUOTED-PRINTABLE:LEITUNG=0D=0A=0D=0AGerhard Löffler - Arp-Schnitger-Orgel=0D=0A=0D=0AMITWIRKENDE=0D=0A=0D=0ANeuer Knabenchor Hamburg=0D=0A=0D=0AJens Bauditz - _Leitung_=0D=0A=0D=0AKMD Gerhard Löffler - _Arp-Schnitger-Orgel_=0D=0A=0D=0A =0D=0A=0D=0AVERANSTALTER=0D=0A=0D=0A	* Hauptkirche St. Jacobi=0D=0A[https://www.nordkirche.de/institution/?nkci=3472]=0D=0A=0D=0A
URL;VALUE=URI:https://hamburgwhl.infomaxnet.de/flohmarkt-maerz/e-gottesdienst-an-trinitatis-1?eventDateId=30093154&widgetToken=4Jn51YkZ2k8.&
CLASS:PUBLIC
DTSTART:20260531T110000
DTSTAMP:20260423T235107
END:VEVENT
END:VCALENDAR