BEGIN:VCALENDAR
VERSION:2.0
PRODID:http://www.infomax-online.de/imxeventmanager/
METHOD:PUBLISH
BEGIN:VTIMEZONE
TZID:Europe/Berlin
TZURL:http://tzurl.org/zoneinfo-outlook/Europe/Berlin
X-LIC-LOCATION:Europe/Berlin
END:VTIMEZONE
BEGIN:VEVENT
UID:69ea94878504e
LOCATION:Jakobikirchhof 22, 20095 Hamburg
SUMMARY;ENCODING=QUOTED-PRINTABLE:Gottesdienst an Pfingstsonntag
DESCRIPTION;ENCODING=QUOTED-PRINTABLE:_Flor Peeters, 1903–1986_=0D=0A=0D=0AENTRATA FESTIVA op. 93=0D=0A=0D=0A_Alexandre Guilmant, 1837–1911_=0D=0A=0D=0AMUSIQUE TRIOMPHALE=0D=0A=0D=0A_Eugène Gigout, 1844–1925_=0D=0A=0D=0AGRAND CHŒR DIALOGUÉ=0D=0A=0D=0ALEITUNG=0D=0A=0D=0AKMD Gerhard Löffler - Arp-Schnitger-Orgel=0D=0A=0D=0AMITWIRKENDE=0D=0A=0D=0AJacobi Brass Quartett Hamburg:=0D=0A=0D=0AValentin Annerbo, Anton Keller – _Trompete_=0D=0A=0D=0AJoão Bastos, Lukas Hellman – _Posaune_=0D=0A=0D=0AKMD Gerhard Löffler– _Arp-Schnitger-Orgel_=0D=0A=0D=0AVERANSTALTER=0D=0A=0D=0A	* Hauptkirche St. Jacobi=0D=0A[https://www.nordkirche.de/institution/?nkci=3472]=0D=0A=0D=0A
URL;VALUE=URI:https://hamburgwhl.infomaxnet.de/flohmarkt-maerz/e-gottesdienst-an-pfingstsonntag-1?eventDateId=30093153&widgetToken=4Jn51YkZ2k8.&
CLASS:PUBLIC
DTSTART:20260524T110000
DTSTAMP:20260423T235207
END:VEVENT
END:VCALENDAR