BEGIN:VCALENDAR
VERSION:2.0
PRODID:http://www.infomax-online.de/imxeventmanager/
METHOD:PUBLISH
BEGIN:VTIMEZONE
TZID:Europe/Berlin
TZURL:http://tzurl.org/zoneinfo-outlook/Europe/Berlin
X-LIC-LOCATION:Europe/Berlin
END:VTIMEZONE
BEGIN:VEVENT
UID:69ea361c42e80
LOCATION:Gaußstraße 190, 22765 Hamburg
SUMMARY;ENCODING=QUOTED-PRINTABLE:The piano has been drinking - not me!!! Tom Waits meets Ricky Lee=0D=0AJones
DESCRIPTION;ENCODING=QUOTED-PRINTABLE:Die Welten der beiden amerikanischen Singer/Songwriter mit einem=0D=0AFaible für die abseitigen Ecken des Lebens treffen aufeinander. Die=0D=0ASchauspieler und Sänger Marion Martienzen und Bernd Grawert tänzeln=0D=0Aund taumeln durch die Haltlosigkeiten des Lebens, um doch wieder=0D=0Arechtzeitig die Reißleinen ihrer Song-Fallschirme zu ziehen, die sie=0D=0Aaufgehoben sein lassen im Raum der Musik.=0D=0A
URL;VALUE=URI:https://hamburgwhl.infomaxnet.de/flohmarkt-maerz/e-the-piano-has-been-drinking-not-me-tom-waits-meets-ricky-lee-jones?eventDateId=30032873&widgetToken=4Jn51YkZ2k8.&
CLASS:PUBLIC
DTSTART:20260423T200000
DTSTAMP:20260423T170916
END:VEVENT
END:VCALENDAR