BEGIN:VCALENDAR
VERSION:2.0
PRODID:http://www.infomax-online.de/imxeventmanager/
METHOD:PUBLISH
BEGIN:VTIMEZONE
TZID:Europe/Berlin
TZURL:http://tzurl.org/zoneinfo-outlook/Europe/Berlin
X-LIC-LOCATION:Europe/Berlin
END:VTIMEZONE
BEGIN:VEVENT
UID:69ea4c9965cc3
LOCATION:Gaußstraße 190, 22765 Hamburg
SUMMARY;ENCODING=QUOTED-PRINTABLE:K(no)w Black Heroes
DESCRIPTION;ENCODING=QUOTED-PRINTABLE:Akos hat ein Raumschiff gebaut und packt gemeinsam mit ihrer Freundin=0D=0AEssinam die Koffer. Dabei stellen sie sich die Frage: Was nehmen wir=0D=0Amit? Die Antwort ist für sie eindeutig: Die Erfindungen Schwarzer=0D=0AWissenschaftler*innen – von der Ampel über Teigausrollmaschinen bis=0D=0Ahin zur Gasmaske. Und wenn sie auf ihrer Reise einen neuen Planeten=0D=0Aentdecken? Dann wird der auf keinen Fall kolonisiert! Sie wollen es=0D=0Abesser machen als die Kolonisator*innen und ihre eigenen kulturellen=0D=0AWerte, Religionen und Gesetze nicht dem neuen Planeten auferlegen.=0D=0A=0D=0AMable Preach, die in Hamburg auf Kampnagel und in der freien=0D=0ATheaterszene Erfolge feierte, begibt sich gemeinsam mit dem Ensemble=0D=0Ain unterschiedliche Genres und Galaxien, um die Schwarzen=0D=0AErrungenschaften unserer jüngeren Zeitgeschichte sichtbar zu machen.=0D=0ANun liegt es an uns: Was fangen wir an mit all dem Schwarzen Wissen?=0D=0AWelche Zukünfte können wir erdenken?=0D=0A
URL;VALUE=URI:https://hamburgwhl.infomaxnet.de/flohmarkt-maerz/e-know-black-heroes?eventDateId=30032863&widgetToken=4Jn51YkZ2k8.&
CLASS:PUBLIC
DTSTART:20260427T180000
DTSTAMP:20260423T184513
END:VEVENT
END:VCALENDAR