BEGIN:VCALENDAR
VERSION:2.0
PRODID:http://www.infomax-online.de/imxeventmanager/
METHOD:PUBLISH
BEGIN:VTIMEZONE
TZID:Europe/Berlin
TZURL:http://tzurl.org/zoneinfo-outlook/Europe/Berlin
X-LIC-LOCATION:Europe/Berlin
END:VTIMEZONE
BEGIN:VEVENT
UID:69ea3dc66e316
LOCATION:Altländer Straße 12, 20095 Hamburg
SUMMARY;ENCODING=QUOTED-PRINTABLE:ONCE UPON A TIME
DESCRIPTION;ENCODING=QUOTED-PRINTABLE:Line Up: Tryptaj // merve b2b Tjark // Vibemeister // Goatchu //=0D=0Asabenzzzo // Shilo=0D=0A
URL;VALUE=URI:https://hamburgwhl.infomaxnet.de/flohmarkt-maerz/e-once-upon-the-time?eventDateId=30014655&widgetToken=4Jn51YkZ2k8.&
CLASS:PUBLIC
DTSTART:20260424T230000
DTSTAMP:20260423T174158
END:VEVENT
END:VCALENDAR