BEGIN:VCALENDAR
VERSION:2.0
PRODID:http://www.infomax-online.de/imxeventmanager/
METHOD:PUBLISH
BEGIN:VTIMEZONE
TZID:Europe/Berlin
TZURL:http://tzurl.org/zoneinfo-outlook/Europe/Berlin
X-LIC-LOCATION:Europe/Berlin
END:VTIMEZONE
BEGIN:VEVENT
UID:69ea6c102a98e
LOCATION:Ferdinandstraße 12, 20095 Hamburg
SUMMARY;ENCODING=QUOTED-PRINTABLE:LIVE: SUPERBAD - FUNKY DANCE NIGHT
DESCRIPTION;ENCODING=QUOTED-PRINTABLE:Line Up: Boogie Funk | Nu Disco | RNB | Soulful House=0D=0A=0D=0ASuperbad! ist keine Band sondern eine Haltung: Groove und Soul sind=0D=0AKing und Queen. Wie Zahnräder greift alles perfekt ineinander. Immer=0D=0Avoller Hingabe und keine halben Sachen. Ein Groove-Generator=0D=0Asondergleichen, bei dem kein Hemd trocken und keine Tanzfläche=0D=0Aungeputzt bleibt. Das Publikum wird zum Bandmitglied und zusammen=0D=0Amachen sie Alles möglich: Free your mind and the rest will follow.=0D=0A=0D=0AVor und nach der Show: Strictly 7“/45 Vinyl: Naughty NMX und EFB=0D=0A(Eclectic Funk Brother) werfen alles auf die Plattenteller was die=0D=0Ahungrige Tanzseele begehrt: Funk, Soul, Boogie Funk, Neo-Boogie,=0D=0ABoogie House und die richtigen Dance Classics=0D=0A=0D=0Awww.facebook.com/funkydancenight/=0D=0A[https://www.facebook.com/funkydancenight/]=0D=0A=0D=0Awww.move-to-the-groove.de [https://www.move-to-the-groove.de]=0D=0A=0D=0Awww.instagram.com/funkydancenighthamburg/=0D=0A[https://www.instagram.com/funkydancenighthamburg/]=0D=0A
URL;VALUE=URI:https://hamburgwhl.infomaxnet.de/flohmarkt-maerz/e-funky-dance-night-tanz-in-den-mai-1?eventDateId=29983996&widgetToken=4Jn51YkZ2k8.&
CLASS:PUBLIC
DTSTART:20260430T200000
DTSTAMP:20260423T205928
END:VEVENT
END:VCALENDAR