BEGIN:VCALENDAR
VERSION:2.0
PRODID:http://www.infomax-online.de/imxeventmanager/
METHOD:PUBLISH
BEGIN:VTIMEZONE
TZID:Europe/Berlin
TZURL:http://tzurl.org/zoneinfo-outlook/Europe/Berlin
X-LIC-LOCATION:Europe/Berlin
END:VTIMEZONE
BEGIN:VEVENT
UID:69e91269e48e0
LOCATION:Wunderbrunnen 1, 22457 Hamburg
SUMMARY;ENCODING=QUOTED-PRINTABLE:Kinder- und Familienflohmarkt IKEA HH-Schnelsen parallel zum=0D=0Averkaufsoffenen Sonntag
DESCRIPTION;ENCODING=QUOTED-PRINTABLE:Dieser Flohmarkt findet unter dem Motto "Kinder und Familie" parallel=0D=0Azum verkaufsoffenen Sonntag von IKEA statt. Es ist nur der Verkauf von=0D=0AArtikeln mit Bezug zu diesem Thema möglich.=0D=0A=0D=0ADie Veranstaltung startet um 13:00 Uhr und endet um 18:00 Uhr. Der=0D=0AStandaufbau beginnt ab 11.00 Uhr!=0D=0A=0D=0AFür das leibliche Wohl ist durch die IKEA-Gastronomie gesorgt!=0D=0A=0D=0ABitte beachten Sie, dass der Verkauf von Neu- oder Retourware an=0D=0Adiesem Termin nicht gestattet ist!=0D=0A=0D=0ASichern Sie sich jetzt online Ihren Wunschplatz und seien Sie dabei!=0D=0A
URL;VALUE=URI:https://hamburgwhl.infomaxnet.de/flohmarkt-maerz/e-kinder-und-familienflohmarkt-ikea-hh-schnelsen-parallel-zum-verkaufsoffenen-sonntag?eventDateId=29917211&widgetToken=4Jn51YkZ2k8.&
CLASS:PUBLIC
DTSTART:20260329T130000
DTSTAMP:20260422T202441
END:VEVENT
END:VCALENDAR