BEGIN:VCALENDAR
VERSION:2.0
PRODID:http://www.infomax-online.de/imxeventmanager/
METHOD:PUBLISH
BEGIN:VTIMEZONE
TZID:Europe/Berlin
TZURL:http://tzurl.org/zoneinfo-outlook/Europe/Berlin
X-LIC-LOCATION:Europe/Berlin
END:VTIMEZONE
BEGIN:VEVENT
UID:69eab5dd50e45
LOCATION:Klosterwall 11, 20095 Hamburg
SUMMARY;ENCODING=QUOTED-PRINTABLE:Dust In The T-Pot, Rustbone, Traeson
DESCRIPTION;ENCODING=QUOTED-PRINTABLE:Eine Veranstaltung der Reihe Dust In The Tea-Pod, Rustbone, Traeson=0D=0A=0D=0ADust In The Tea-Pod, Rustbone, Traeson=0D=0A
URL;VALUE=URI:https://hamburgwhl.infomaxnet.de/flohmarkt-maerz/e-dust-in-the-t-pot-rustbone-traeson?eventDateId=29885388&widgetToken=4Jn51YkZ2k8.&
CLASS:PUBLIC
DTSTART:20260425T200000
DTSTAMP:20260424T021421
END:VEVENT
END:VCALENDAR