BEGIN:VCALENDAR
VERSION:2.0
PRODID:http://www.infomax-online.de/imxeventmanager/
METHOD:PUBLISH
BEGIN:VTIMEZONE
TZID:Europe/Berlin
TZURL:http://tzurl.org/zoneinfo-outlook/Europe/Berlin
X-LIC-LOCATION:Europe/Berlin
END:VTIMEZONE
BEGIN:VEVENT
UID:69e9e753e47d7
LOCATION:Rathausmarkt , 20095 Hamburg
SUMMARY;ENCODING=QUOTED-PRINTABLE:British Evening with Mark Lyndon - An evening of British Flair and=0D=0AHumour
DESCRIPTION;ENCODING=QUOTED-PRINTABLE:Mark Lyndon=0D=0A=0D=0ADie Rathauspassage Hamburg lädt einmal im Monat ein zum British=0D=0AEvening mit Mark Lyndon. Die Gäste erleben ein abwechslungsreiches=0D=0AProgramm, das klassische Unterhaltung mit britischem Flair und Humour=0D=0Averbindet. Genießen Sie zudem typisch britische Pies, „Fish and=0D=0AChips“, Teespezialitäten, eine Auswahl an kühlen Bieren und=0D=0Astimmungsvolle Musik, die den Abend bis 23 Uhr begleitet. Der British=0D=0AEvening öffnet die Türen zu einem besonderen Abend voller Genuss und=0D=0AGemeinschaft. Pies zur Begrüßung und Tee den ganzen Abend lang sind=0D=0Aim Ticketpreis inbegriffen.=0D=0A=0D=0ACopyright: Fotografie: Bo Lahola, Herwig Lührs=0D=0A
URL;VALUE=URI:https://hamburgwhl.infomaxnet.de/flohmarkt-maerz/e-british-evening-with-mark-lyndon-an-evening-of-british-flair-and-humour-4?eventDateId=29863375&widgetToken=4Jn51YkZ2k8.&
CLASS:PUBLIC
DTSTART:20260423T200000
DTSTAMP:20260423T113307
END:VEVENT
END:VCALENDAR