BEGIN:VCALENDAR
VERSION:2.0
PRODID:http://www.infomax-online.de/imxeventmanager/
METHOD:PUBLISH
BEGIN:VTIMEZONE
TZID:Europe/Berlin
TZURL:http://tzurl.org/zoneinfo-outlook/Europe/Berlin
X-LIC-LOCATION:Europe/Berlin
END:VTIMEZONE
BEGIN:VEVENT
UID:69ea94116f32e
LOCATION:Bei der Petrikirche 2, 20095 Hamburg
SUMMARY;ENCODING=QUOTED-PRINTABLE:Musikalischer Festgottesdienst
DESCRIPTION;ENCODING=QUOTED-PRINTABLE:Musikalischer Festgottesdienst aus Anlass des 25-jährigen Bestehens=0D=0Ades Collegium vocale St. Petri=0D=0A=0D=0ALEITUNG=0D=0A=0D=0AEdzard Burchards=0D=0A=0D=0AVERANSTALTER=0D=0A=0D=0A	* Hauptkirche St. Petri=0D=0A[https://www.nordkirche.de/institution/?nkci=2063]=0D=0A=0D=0A
URL;VALUE=URI:https://hamburgwhl.infomaxnet.de/flohmarkt-maerz/e-musikalischer-festgottesdienst-11-1?eventDateId=29812792&widgetToken=4Jn51YkZ2k8.&
CLASS:PUBLIC
DTSTART:20260503T100000
DTSTAMP:20260423T235009
END:VEVENT
END:VCALENDAR