BEGIN:VCALENDAR
VERSION:2.0
PRODID:http://www.infomax-online.de/imxeventmanager/
METHOD:PUBLISH
BEGIN:VTIMEZONE
TZID:Europe/Berlin
TZURL:http://tzurl.org/zoneinfo-outlook/Europe/Berlin
X-LIC-LOCATION:Europe/Berlin
END:VTIMEZONE
BEGIN:VEVENT
UID:69eab3609d6cd
LOCATION:Klosterwall 11, 20095 Hamburg
SUMMARY;ENCODING=QUOTED-PRINTABLE:Depeche Mode - Party for the Masses
DESCRIPTION;ENCODING=QUOTED-PRINTABLE:Party for the Masses - Die Masses tanzt - exzessiven Depeche Mode=0D=0AParty=0D=0A
URL;VALUE=URI:https://hamburgwhl.infomaxnet.de/flohmarkt-maerz/e-depeche-mode-party-for-the-masses-14?eventDateId=29807628&widgetToken=4Jn51YkZ2k8.&
CLASS:PUBLIC
DTSTART:20260430T210000
DTSTAMP:20260424T020344
END:VEVENT
END:VCALENDAR