BEGIN:VCALENDAR
VERSION:2.0
PRODID:http://www.infomax-online.de/imxeventmanager/
METHOD:PUBLISH
BEGIN:VTIMEZONE
TZID:Europe/Berlin
TZURL:http://tzurl.org/zoneinfo-outlook/Europe/Berlin
X-LIC-LOCATION:Europe/Berlin
END:VTIMEZONE
BEGIN:VEVENT
UID:69e99911411b8
LOCATION:Große Bergstraße 164, 22767 Hamburg
SUMMARY;ENCODING=QUOTED-PRINTABLE:Flohmarkt IKEA HH-Altona parallel zum verkaufsoffenen Sonntag
DESCRIPTION;ENCODING=QUOTED-PRINTABLE:Dieser Flohmarkt findet parallel zum verkaufsoffenen Sonntag in der=0D=0ANeuen Großen Bergstraße, auf dem Goetheplatz und in der Großen=0D=0ABergstraße statt.=0D=0A=0D=0AStandaufbau: 11-13 Uhr=0D=0A=0D=0AVeranstaltungszeitraum: 13-18 Uhr=0D=0A=0D=0ASichern Sie sich jetzt online Ihren Wunschplatz und seien Sie dabei!=0D=0A
URL;VALUE=URI:https://hamburgwhl.infomaxnet.de/flohmarkt-maerz/e-flohmarkt-ikea-hh-altona-parallel-zum-verkaufsoffenen-sonntag?eventDateId=29628254&widgetToken=4Jn51YkZ2k8.&
CLASS:PUBLIC
DTSTART:20260329T130000
DTSTAMP:20260423T055913
END:VEVENT
END:VCALENDAR