BEGIN:VCALENDAR
VERSION:2.0
PRODID:http://www.infomax-online.de/imxeventmanager/
METHOD:PUBLISH
BEGIN:VTIMEZONE
TZID:Europe/Berlin
TZURL:http://tzurl.org/zoneinfo-outlook/Europe/Berlin
X-LIC-LOCATION:Europe/Berlin
END:VTIMEZONE
BEGIN:VEVENT
UID:69ea4c2a3e4b7
LOCATION:Alstertor 1, 20095 Hamburg
SUMMARY;ENCODING=QUOTED-PRINTABLE:Thomas Azier
DESCRIPTION;ENCODING=QUOTED-PRINTABLE:Thomas Azier=0D=0A=0D=0Ahomas Azier ist ein niederländischer Komponist, Produzent, Sänger=0D=0Aund Performer. Sein=0D=0Aerstes Album Hylas veröffentlichte er während seiner Berliner Jahre=0D=0Aauf seinem=0D=0Agleichnamigen Label. Er erhielt zwei Edison Awards, den Preis der=0D=0ADeutschen=0D=0ASchallplattenkritik für Rouge sowie einen Berlin Music Video Award=0D=0Afür Verwandlung.=0D=0AIn den letzten 12 Jahren veröffentlichte Thomas Azier sechs Alben und=0D=0Aprägte dabei=0D=0Akonsequent die Umrisse seines eigenständigen Verständnisses von=0D=0APopmusik. Seine Songs=0D=0ARed Eyes und The Dreamer In Her wurden von YSL für La Nuit de=0D=0Al’Homme verwendet – und=0D=0ALove, Disorderly ist der Original-Soundtrack des Blockbusters The=0D=0AEqualizer 3.=0D=0AThomas hat über 500 Konzerte und Festivals gespielt, darunter=0D=0ALowlands, Best Kept Secret,=0D=0AEurockéennes und Montreal Jazz. In den letzten Jahren hat er breit=0D=0Amit europäischen=0D=0AMusiker*innen aus unterschiedlichsten Genres zusammengearbeitet –=0D=0Aexperimenteller=0D=0ANoise, Filmmusik, Klassik, Oper und Jazz – und eine künstlerische=0D=0AHandschrift geschaffen,=0D=0Adie von unvergleichlichen, fesselnden Erfahrungen geprägt ist. Seine=0D=0AWirkung auf die=0D=0Aeuropäische Popmusik zeigt sich auch in seiner Arbeit als Songwriter=0D=0Aund Produzent für=0D=0AKünstler wie Stromae, Faber, Hang Youth und Anouk.=0D=0A
URL;VALUE=URI:https://hamburgwhl.infomaxnet.de/flohmarkt-maerz/e-thomas-azier?eventDateId=29571972&widgetToken=4Jn51YkZ2k8.&
CLASS:PUBLIC
DTSTART:20260427T210000
DTSTAMP:20260423T184322
END:VEVENT
END:VCALENDAR