BEGIN:VCALENDAR
VERSION:2.0
PRODID:http://www.infomax-online.de/imxeventmanager/
METHOD:PUBLISH
BEGIN:VTIMEZONE
TZID:Europe/Berlin
TZURL:http://tzurl.org/zoneinfo-outlook/Europe/Berlin
X-LIC-LOCATION:Europe/Berlin
END:VTIMEZONE
BEGIN:VEVENT
UID:69ea85fc45a1a
LOCATION:Klosterwall 11, 20095 Hamburg
SUMMARY;ENCODING=QUOTED-PRINTABLE:My Sleeping Karma & Colour Haze - Karma Haze Tour 2026
DESCRIPTION;ENCODING=QUOTED-PRINTABLE:My Sleeping Karma & Colour Haze - Karma Haze Tour 2026=0D=0A
URL;VALUE=URI:https://hamburgwhl.infomaxnet.de/flohmarkt-maerz/e-my-sleeping-karma-colour-haze-karma-haze-tour-2026?eventDateId=29443867&widgetToken=4Jn51YkZ2k8.&
CLASS:PUBLIC
DTSTART:20260424T200000
DTSTAMP:20260423T225004
END:VEVENT
END:VCALENDAR