BEGIN:VCALENDAR
VERSION:2.0
PRODID:http://www.infomax-online.de/imxeventmanager/
METHOD:PUBLISH
BEGIN:VTIMEZONE
TZID:Europe/Berlin
TZURL:http://tzurl.org/zoneinfo-outlook/Europe/Berlin
X-LIC-LOCATION:Europe/Berlin
END:VTIMEZONE
BEGIN:VEVENT
UID:69e7efd196685
LOCATION:Holtenklinker Straße 88, 21029 Hamburg
SUMMARY;ENCODING=QUOTED-PRINTABLE:Kinderflohmarkt
DESCRIPTION;ENCODING=QUOTED-PRINTABLE:Es werden Spielzeug, Fahrrad, Mäuse- und Hamsterkäfige, DVD, Bücher=0D=0Aangeboten=0D=0A
URL;VALUE=URI:https://hamburgwhl.infomaxnet.de/flohmarkt-dezember/e-kinderflohmarkt-13?eventDateId=29554566&widgetToken=JyMvt_4MywU.&
CLASS:PUBLIC
DTSTART:20251213T100000
DTSTAMP:20260421T234449
END:VEVENT
END:VCALENDAR