BEGIN:VCALENDAR
VERSION:2.0
PRODID:http://www.infomax-online.de/imxeventmanager/
METHOD:PUBLISH
BEGIN:VTIMEZONE
TZID:Europe/Berlin
TZURL:http://tzurl.org/zoneinfo-outlook/Europe/Berlin
X-LIC-LOCATION:Europe/Berlin
END:VTIMEZONE
BEGIN:VEVENT
UID:69e647fa9e6f0
LOCATION:Heinrich-Helbing-Straße 48, 22177 Hamburg
SUMMARY;ENCODING=QUOTED-PRINTABLE:Kinderflohmarkt
DESCRIPTION;ENCODING=QUOTED-PRINTABLE:Am 26.04. veranstalten wir wieder unseren schönen Flohmarkt rund ums=0D=0AKind von 10:00 – 14:00 Uhr. Kommt gern vorbei oder verkauft selbst.=0D=0AEin Stand kostet 5 Euro zzgl. 1 Kuchen. Mit Kaffee und Kuchen=0D=0Aversüßen wir uns diesen hoffentlich sonnigen Tag. Die Einnahmen aus=0D=0Adem Kuchenverkauf kommen natürlich den Kitakindern zugute. Wir freuen=0D=0Auns auf euch!=0D=0A
URL;VALUE=URI:https://hamburgwhl.infomaxnet.de/flohmarkt-april/e-kinderflohmarkt-15?eventDateId=29927684&widgetToken=WG5WyN7gEO0.&
CLASS:PUBLIC
DTSTART:20260426T100000
DTSTAMP:20260420T173626
END:VEVENT
END:VCALENDAR