BEGIN:VCALENDAR
VERSION:2.0
PRODID:http://www.infomax-online.de/imxeventmanager/
METHOD:PUBLISH
BEGIN:VTIMEZONE
TZID:Europe/Berlin
TZURL:http://tzurl.org/zoneinfo-outlook/Europe/Berlin
X-LIC-LOCATION:Europe/Berlin
END:VTIMEZONE
BEGIN:VEVENT
UID:69ea5a26e9c4c
LOCATION:Schwanenwik 38, 22087 Hamburg
SUMMARY;ENCODING=QUOTED-PRINTABLE:Hamza Abu Howidy
DESCRIPTION;ENCODING=QUOTED-PRINTABLE:HAMZA ABU HOWIDY=0D=0Astellt sein Buch »Muscheln am Strand von Gaza« vor=0D=0A=0D=0A»Manchmal fühle ich mich wie der einsamste Palästinenser auf der=0D=0AWelt«, sagt der 1997 im Gaza-Streifen geborene Hamza Abu Howidy. In=0D=0Aseinem Buch »Muscheln am Strand von Gaza« (S. Fischer) geht er vom=0D=0APrivaten – den Lektionen über ein gelingendes Leben, die sein Vater=0D=0Aihm bei ihren Strandspaziergängen mitgegeben hat – ins Politische=0D=0A– dem blutigen Terror, der stets zu seinem Alltag gehörte.=0D=0AGemeinsam mit Judith Poppe hat er seine Erinnerungen aufgeschrieben.=0D=0AEr erzählt vom Aufwachsen in Gaza, aber auch von den grausamen=0D=0AKämpfen zwischen der Fatah und der Hamas, die er als Kind unmittelbar=0D=0Amiterlebte und die ihn zum Friedensaktivisten und Teil der=0D=0AProtestbewegung »Wir wollen leben« machten. Als er gegen die Hamas=0D=0Aprotestierte, wurde er festgenommen, gefoltert und musste fliehen,=0D=0Azunächst über die Türkei nach Griechenland, dann nach Deutschland=0D=0A– wo sein Asylantrag bislang abgelehnt wurde.=0D=0A=0D=0ATrotz des Terrors, den der mustergültige Intellektuelle, wie ihn die=0D=0A»taz« bezeichnet, erleben musste, ist sein sehr persönliches Buch=0D=0Agekennzeichnet von großer Liebe zu Palästina – und von seiner=0D=0Aungebrochenen Hoffnung auf Frieden im Nahen Osten. Der von=0D=0Ainternationalen Medien geschätzte Gesprächspartner zählt zu den=0D=0Awichtigsten politischen Stimmen der palästinensischen Diaspora, dabei=0D=0Asetzt er sich für gewaltfreie Ansätze im Nahostkonflikt ein.=0D=0A=0D=0AModeration: Insa Wilke=0D=0ADeutsche Lesung: Judith Poppe=0D=0AVerdolmetschung: Tom Khaled Würdemann=0D=0A
URL;VALUE=URI:https://hamburgwhl.infomaxnet.de/citinaut-kalender/e-hamza-abu-howidy?eventDateId=30127387&widgetToken=2u8GNZeBz18.&
CLASS:PUBLIC
DTSTART:20260429T193000
DTSTAMP:20260423T194302
END:VEVENT
END:VCALENDAR