BEGIN:VCALENDAR
VERSION:2.0
PRODID:http://www.infomax-online.de/imxeventmanager/
METHOD:PUBLISH
BEGIN:VTIMEZONE
TZID:Europe/Berlin
TZURL:http://tzurl.org/zoneinfo-outlook/Europe/Berlin
X-LIC-LOCATION:Europe/Berlin
END:VTIMEZONE
BEGIN:VEVENT
UID:69ea4492df7c4
LOCATION:Schwanenwik 38, 22087 Hamburg
SUMMARY;ENCODING=QUOTED-PRINTABLE:Iryna Fingerova & Matthias Nawrat
DESCRIPTION;ENCODING=QUOTED-PRINTABLE:stellen ihre neuen Romane »Zugwind« und »Das glückliche=0D=0ASchicksal« vor=0D=0A=0D=0AIRYNA FINGEROVA & MATTHIAS NAWRAT=0D=0Astellen ihre neuen Romane »Zugwind« und »Das glückliche=0D=0ASchicksal« vor=0D=0A=0D=0A»Ich habe eine Tochter, einen Ehemann, ein Zahnimplantat und=0D=0ACellulite am Hintern.« Die Protagonistin, die sich in Iryna=0D=0AFingerovas Roman »Zugwind« (Rowohlt; Übersetzung: Jakob Walosczyk)=0D=0Aso unverblümt vorstellt, ist Mira Zehmann, eine aus der Ukraine=0D=0Astammende Haus-ärztin in Deutschland. Als in ihrer Heimat Krieg tobt,=0D=0Awird ihre Praxis zur Anlaufstelle für entwurzelte Menschen aus der=0D=0AUkraine, die mehr von ihr wollen als Rezepte und Tabletten. Sie suchen=0D=0ATrost, eine Gemeinschaft, in der sie die Gräuel verarbeiten können.=0D=0ADoch Mira spürt einen Zugwind durch sich hindurchwehen und macht sich=0D=0Aauf nach Odesa. Ein mutiges und mutmachendes Buch, das von der in=0D=0ADresden lebenden Autorin erstmals teilweise auf Deutsch verfasst=0D=0Awurde.=0D=0A=0D=0AAuch in Matthias Nawrats Roman »Das glückliche Schicksal« (Rowohlt)=0D=0Ageht es um die europäische Geschichte: Es ist das Jahr 1983, an den=0D=0AZusammenbruch der sozialistischen Staaten ist noch nicht zu denken.=0D=0ADie polnische Psychologin Wanda Karowska fährt von Krakow nach=0D=0AVenedig, um den dort seit Jahren im Exil lebenden Soziologen Henryk=0D=0AMrugalski zu treffen. Die beiden geben einander nichts und was als=0D=0AGespräch beginnt, ähnelt bald immer mehr einem Verhör. Für den=0D=0ARoman wurde Matthias Nawrat mit dem Berliner Literaturpreis=0D=0Aausgezeichnet. Die Jury lobte vor allem »das Beziehungsgeflecht=0D=0Ahinter den Bruchstücken unserer Wirklichkeit, die unsichtbaren=0D=0ALinien, die von der Vergangenheit in die Gegenwart führen«.=0D=0A=0D=0AModeration: Dmitrij Kapitelman=0D=0A=0D=0AFoto (Fingerova) (c) Max Zerrahn=0D=0AFoto (Nawrat) (c) Alena Schmick=0D=0A
URL;VALUE=URI:https://hamburgwhl.infomaxnet.de/citinaut-kalender/e-iryna-fingerova-matthias-nawrat?eventDateId=30047991&widgetToken=2u8GNZeBz18.&
CLASS:PUBLIC
DTSTART:20260428T193000
DTSTAMP:20260423T181058
END:VEVENT
END:VCALENDAR